BEGIN:VCALENDAR
PRODID:-//eluceo/ical//2.0/EN
VERSION:2.0
CALSCALE:GREGORIAN
BEGIN:VEVENT
UID:event-593
DTSTAMP:20260424T184952Z
SUMMARY:Lente Benefietconcert 
DESCRIPTION:Stap even uit de drukte en laat je meevoeren door een avond vol
  prachtige klanken en rust✨ Dit jaar organiseert het M.F.L.S.-bestuur ee
 n bijzondere activiteit voor ons goede doel: het 113 Fonds. Gedurende het 
 hele jaar zamelen we geld in en deze avond vormt een van de hoogtepunten. 
 Geniet van een sfeervol optreden van een ensemble van het VU-orkest\, met 
 mooie klassieke muziek en herkenbare stukken van onder andere Einaudi en a
 ndere bekende componisten. Even iets anders dan de gebruikelijke borrels e
 n feesten\, een moment om weg te dromen en volledig op te gaan in muziek. 
 Daarnaast zullen we ook op deze avond de grootste prijzen van de goede doe
 len loterij uitreiken! Wil je daar nou ook aan meedoen\, koop dan een of m
 eerdere lootjes via de website. Wil je weten welke prijzen er te winnen z
 ijn? Houd onze Instagram @mfls.leiden in de gaten! De volledige ticketopbr
 engst gaat naar het goede doel💚 Voor MFLS-leden\, externen én LUMC-med
 ewerkers🎻 Neem al je vrienden mee voor een avond vol muziek👥 Uitreik
 ing van de grootste loterij prijzen (aanwezigheid niet verplicht om deze t
 e kunnen winnen)🎟️ Wees er snel bij\, want vol = vol! Liefs\,  Het 1
 13e M.F.L.S.-bestuur
DTSTART:20260610T180000Z
DTEND:20260610T200000Z
LOCATION:HePatho
END:VEVENT
BEGIN:VTIMEZONE
TZID:UTC
BEGIN:STANDARD
DTSTART:20260610T180000
TZNAME:UTC
TZOFFSETTO:+0000
TZOFFSETFROM:+0000
END:STANDARD
END:VTIMEZONE
END:VCALENDAR
