BEGIN:VCALENDAR
PRODID:-//eluceo/ical//2.0/EN
VERSION:2.0
CALSCALE:GREGORIAN
BEGIN:VEVENT
UID:event-588
DTSTAMP:20260422T122859Z
SUMMARY:Educatieve Activiteit JVT Geneeskunde 1 & 2
DESCRIPTION:Lieve jaargenoten\,   Op 26 maart. staat de avond volledig in 
 het teken van Geneeskunde in tijden van Oorlog. Zelfs mogen we een zeer i
 nteressante spreker ontvangen vanuit Defensie die gaat vertellen over de d
 agelijks leven als arts in oorlogsgebied. Mocht je dit interessante onderw
 erp niet willen missen\, kom dan vooral naar deze avond!   Liefs\, JVT Ge
 neeskunde 1 &amp\; 2
DTSTART:20260326T163000Z
DTEND:20260326T180000Z
END:VEVENT
BEGIN:VTIMEZONE
TZID:UTC
BEGIN:STANDARD
DTSTART:20260326T163000
TZNAME:UTC
TZOFFSETTO:+0000
TZOFFSETFROM:+0000
END:STANDARD
END:VTIMEZONE
END:VCALENDAR
