BEGIN:VCALENDAR
PRODID:-//eluceo/ical//2.0/EN
VERSION:2.0
CALSCALE:GREGORIAN
BEGIN:VEVENT
UID:event-569
DTSTAMP:20260422T123306Z
SUMMARY:Activiteit JVT BW3
DESCRIPTION:Ben jij student Biomedische wetenschappen en zit je in het derd
 e jaar? Dan kun je op 16 december samen met je jaargenoten gaan schaatsen 
 in het gezellige leiden! Bevestig je aanmelding door een kaartje te kopen 
 We zien jullie graag op deze gezellige activiteit!!   Liefs\, JVT BW 3
DTSTART:20251216T120000Z
DTEND:20251216T140000Z
END:VEVENT
BEGIN:VTIMEZONE
TZID:UTC
BEGIN:STANDARD
DTSTART:20251216T120000
TZNAME:UTC
TZOFFSETTO:+0000
TZOFFSETFROM:+0000
END:STANDARD
END:VTIMEZONE
END:VCALENDAR
