BEGIN:VCALENDAR
PRODID:-//eluceo/ical//2.0/EN
VERSION:2.0
CALSCALE:GREGORIAN
BEGIN:VEVENT
UID:event-566
DTSTAMP:20260422T123238Z
SUMMARY:LCR Extramuraal Speeddaten
DESCRIPTION:Schrijf je in via de forms in de bio van de LCR Instagram (leid
 secoraad) of via deze link https://docs.google.com/forms/d/e/1FAIpQLSd-_A
 RG95rQGCBrk2hvq_LyBUYlIhSEhvPj4VFTIOTGtSwWLw/viewform!
DTSTART:20260416T160000Z
DTEND:20260416T190000Z
LOCATION:UWV Leiden
END:VEVENT
BEGIN:VTIMEZONE
TZID:UTC
BEGIN:STANDARD
DTSTART:20260416T160000
TZNAME:UTC
TZOFFSETTO:+0000
TZOFFSETFROM:+0000
END:STANDARD
END:VTIMEZONE
END:VCALENDAR
