BEGIN:VCALENDAR
PRODID:-//eluceo/ical//2.0/EN
VERSION:2.0
CALSCALE:GREGORIAN
BEGIN:VEVENT
UID:event-564
DTSTAMP:20260422T123017Z
SUMMARY:Ouderdag 2026 Zenuw(pr)achtig
DESCRIPTION:De leukste dag voor eerstejaars komt er weer aan: de ouderdag! 
 Dé dag waarop je aan je ouders kunt laten zien waar je studeert en hoe jo
 uw dagen in het LUMC eruitzien. Er wordt vaak nog jaren door ouders nagepr
 aat over deze dag\, dus dit wil je niet missen!   De ouderdag is uitsluit
 end bedoeld voor eerstejaarsstudenten Biomedische wetenschappen en Geneesk
 unde. Bij het kopen van een ticket moet je zowel een ticket voor jezelf aa
 nschaffen als voor het aantal mensen dat je meeneemt. Het is de bedoeling 
 dat er alleen ouders/verzorgers meekomen. Een ticket kost €9\,75. Hierbi
 j zijn de lunch\, borrel en een leuke goodiebag inbegrepen. Wees er snel b
 ij\, want op = op!
DTSTART:20260613T080000Z
DTEND:20260613T150000Z
LOCATION:LUMC
END:VEVENT
BEGIN:VTIMEZONE
TZID:UTC
BEGIN:STANDARD
DTSTART:20260613T080000
TZNAME:UTC
TZOFFSETTO:+0000
TZOFFSETFROM:+0000
END:STANDARD
END:VTIMEZONE
END:VCALENDAR
