BEGIN:VCALENDAR
PRODID:-//eluceo/ical//2.0/EN
VERSION:2.0
CALSCALE:GREGORIAN
BEGIN:VEVENT
UID:event-560
DTSTAMP:20260422T122756Z
SUMMARY:Bestuurs-informatieavond
DESCRIPTION:Beste M.F.L.S.'er\,   Op deze bijzondere en mooie informatieve
  avond wordt het doen van een bestuursjaar bij de M.F.L.S. voor jullie blo
 ot gelegd. Het huidige bestuur maar ook voorgaande besturen kunnen hier ju
 llie vragen\, zorgen en enthousiasme beantwoorden. Deze avond zal bestaan 
 uit een presentatie waarin alle ruimte voor vragen is. Mocht je interess h
 ebben in het doen van een bestuursjaar of gewoon heel nieuwsgierig zijn\, 
 kom dan vooral gezellig langs en maak onder het genot van een drankje een 
 praatje met anderen geinteresseerden of ervaringsdeskundigen. Hopelijk zie
 n we je daar en kunnen we alle vragen beantwoorden   Veel liefs\, M.F.L.S
 .-bestuur 2025-2026
DTSTART:20260318T183000Z
DTEND:20260318T210000Z
END:VEVENT
BEGIN:VTIMEZONE
TZID:UTC
BEGIN:STANDARD
DTSTART:20260318T183000
TZNAME:UTC
TZOFFSETTO:+0000
TZOFFSETFROM:+0000
END:STANDARD
END:VTIMEZONE
END:VCALENDAR
