BEGIN:VCALENDAR
PRODID:-//eluceo/ical//2.0/EN
VERSION:2.0
CALSCALE:GREGORIAN
BEGIN:VEVENT
UID:event-554
DTSTAMP:20260422T123032Z
SUMMARY:Dies Natalis
DESCRIPTION:Op 7 februari is de univeristeit leiden opgericht en viert het 
 haar 451e verjaardag sinds de oprichting op 8 februari 1575.
DTSTART:20260206T230000Z
DTEND:20260207T010000Z
END:VEVENT
BEGIN:VTIMEZONE
TZID:UTC
BEGIN:STANDARD
DTSTART:20260206T230000
TZNAME:UTC
TZOFFSETTO:+0000
TZOFFSETFROM:+0000
END:STANDARD
END:VTIMEZONE
END:VCALENDAR
