BEGIN:VCALENDAR
PRODID:-//eluceo/ical//2.0/EN
VERSION:2.0
CALSCALE:GREGORIAN
BEGIN:VEVENT
UID:event-553
DTSTAMP:20260422T123429Z
SUMMARY:Master Open Dag
DESCRIPTION:Op vrijdag 6 februari zal de Open Dag van de Universiteit Leide
 n plaatsvinden op de verschillende plekken en campus in Leiden.
DTSTART:20260206T110000Z
DTEND:20260206T180000Z
LOCATION:LUMC
END:VEVENT
BEGIN:VTIMEZONE
TZID:UTC
BEGIN:STANDARD
DTSTART:20260206T110000
TZNAME:UTC
TZOFFSETTO:+0000
TZOFFSETFROM:+0000
END:STANDARD
END:VTIMEZONE
END:VCALENDAR
