BEGIN:VCALENDAR
PRODID:-//eluceo/ical//2.0/EN
VERSION:2.0
CALSCALE:GREGORIAN
BEGIN:VEVENT
UID:event-552
DTSTAMP:20260422T122648Z
SUMMARY:Paarse Vrijdag Borrel
DESCRIPTION:De M.F.L.S.\, IFMSA en LUMC Pride hebben hun handen ineen gesla
 gen voor deze Paarse Vrijdag activiteit: kom naar HePatho voor een leuke p
 ubquiz op Paarse Vrijdag! 
DTSTART:20251212T160000Z
DTEND:20251212T190000Z
END:VEVENT
BEGIN:VTIMEZONE
TZID:UTC
BEGIN:STANDARD
DTSTART:20251212T160000
TZNAME:UTC
TZOFFSETTO:+0000
TZOFFSETFROM:+0000
END:STANDARD
END:VTIMEZONE
END:VCALENDAR
