BEGIN:VCALENDAR
PRODID:-//eluceo/ical//2.0/EN
VERSION:2.0
CALSCALE:GREGORIAN
BEGIN:VEVENT
UID:event-551
DTSTAMP:20260421T164048Z
SUMMARY:Co-Raad Winterborrel
DESCRIPTION:De jaarlijkse zomerborrel was zó’n succes\, dat we er geen g
 enoeg van konden krijgen! Dussss… tijd voor een winterborrel! Trotseer d
 e kou\, neem je mede-co’s mee en luid samen het weekend goed in met een 
 drankje\, of twee \;)   Zien we jou vrijdag 23 januari bij Kompaan Thuish
 aven &amp\; Brouwerij in Den Haag?
DTSTART:20260123T183000Z
DTEND:20260123T213000Z
LOCATION:Thuishaven & Brouwerij 
END:VEVENT
BEGIN:VTIMEZONE
TZID:UTC
BEGIN:STANDARD
DTSTART:20260123T183000
TZNAME:UTC
TZOFFSETTO:+0000
TZOFFSETFROM:+0000
END:STANDARD
END:VTIMEZONE
END:VCALENDAR
