BEGIN:VCALENDAR
PRODID:-//eluceo/ical//2.0/EN
VERSION:2.0
CALSCALE:GREGORIAN
BEGIN:VEVENT
UID:event-534
DTSTAMP:20260422T123218Z
SUMMARY:LCR workshop Labwaarden
DESCRIPTION:Kom naar de LCR workshop Labwaarden\, gegeven door Marnix Timme
 r! Zie de socials van de LCR om je in te schrijven\, hopelijk tot dan! :)
DTSTART:20250901T170000Z
DTEND:20250901T193000Z
LOCATION:CZ-6
END:VEVENT
BEGIN:VTIMEZONE
TZID:UTC
BEGIN:STANDARD
DTSTART:20250901T170000
TZNAME:UTC
TZOFFSETTO:+0000
TZOFFSETFROM:+0000
END:STANDARD
END:VTIMEZONE
END:VCALENDAR
