BEGIN:VCALENDAR
PRODID:-//eluceo/ical//2.0/EN
VERSION:2.0
CALSCALE:GREGORIAN
BEGIN:VEVENT
UID:event-514
DTSTAMP:20260422T122750Z
SUMMARY:M.F.L.S.-gala 2025
DESCRIPTION:Lieve M.F.L.S.’ers💚\,   Zaterdag 13 december is het einde
 lijk zo ver: het jaarlijkse M.F.L.S.-gala!💃🏼🪩 Trek je galajurk en
  rokkostuum maar uit de kast\, want dit wordt een avond om nooit te verget
 en!🎵✨🍾 Dit keer in ons prachtige Leiden met als thema: The Great G
 atsby🎙️🤩   Wil jij deze geweldige avond niet missen? Koop dan 1 o
 ktober je kaartje via de M.F.L.S. site!🎟️ LET OP: Het gala is uitslui
 tend voor mensen van 18 jaar en ouder!
DTSTART:20251213T200000Z
DTEND:20251214T010000Z
LOCATION:Leidse Lente
END:VEVENT
BEGIN:VTIMEZONE
TZID:UTC
BEGIN:STANDARD
DTSTART:20251213T200000
TZNAME:UTC
TZOFFSETTO:+0000
TZOFFSETFROM:+0000
END:STANDARD
END:VTIMEZONE
END:VCALENDAR
