BEGIN:VCALENDAR
PRODID:-//eluceo/ical//2.0/EN
VERSION:2.0
CALSCALE:GREGORIAN
BEGIN:VEVENT
UID:event-513
DTSTAMP:20260422T123104Z
SUMMARY:Constitutieborrel 113e M.F.L.S.-bestuur
DESCRIPTION:
DTSTART:20251105T193000Z
DTEND:20251105T233000Z
END:VEVENT
BEGIN:VTIMEZONE
TZID:UTC
BEGIN:STANDARD
DTSTART:20251105T193000
TZNAME:UTC
TZOFFSETTO:+0000
TZOFFSETFROM:+0000
END:STANDARD
END:VTIMEZONE
END:VCALENDAR
