BEGIN:VCALENDAR
PRODID:-//eluceo/ical//2.0/EN
VERSION:2.0
CALSCALE:GREGORIAN
BEGIN:VEVENT
UID:event-511
DTSTAMP:20260422T122603Z
SUMMARY:Diesactiviteit 2025 Kaasproeverij
DESCRIPTION:Beste M.F.L.S.'er\,   Op 1 November was het moment daar\, de b
 elangrijkste dag van de M.F.L.S.. De dag van haar ontstaan in het jaar 191
 2. Daarom organiseren wij op 30 oktober een speciale activitiet om de 113
 e verjaardag van onze vereniging te vieren. Dit gaan we doen met een verzo
 rgde Kaasproeverij in de voorruimte van collegezaal 1 vanaf 19:45. Om erbi
 j te kunnen zijn zal je je moeten inschrijven voor de activiteit welke €
 7\,80 zal kosten. We kijken er enorm naar uit om samen met jullie een pra
 chtige en heerlijke avond te vieren. Er zal deze avond ook drank inbegrepe
 n zijn!   Veel liefs\, Namens het 113e M.F.L.S.-bestuur
DTSTART:20251030T184500Z
DTEND:20251030T203000Z
END:VEVENT
BEGIN:VTIMEZONE
TZID:UTC
BEGIN:STANDARD
DTSTART:20251030T184500
TZNAME:UTC
TZOFFSETTO:+0000
TZOFFSETFROM:+0000
END:STANDARD
END:VTIMEZONE
END:VCALENDAR
