BEGIN:VCALENDAR
PRODID:-//eluceo/ical//2.0/EN
VERSION:2.0
CALSCALE:GREGORIAN
BEGIN:VEVENT
UID:event-509
DTSTAMP:20260422T122308Z
SUMMARY:Diesviering
DESCRIPTION:Wie jarig is\, zal trakteren! Daarom zal er op woensdag 29 okto
 ber in HePatho tussen 13:00 en 15:00 worden getrakteerd! Het 113e Bestuur 
 zal die middag jullie persoonlijk trakteren met een drankje en gebakje! Wi
 j zien jullie allen graag daar! Liefs\, Het 113e M.F.L.S.-bestuur
DTSTART:20251029T120000Z
DTEND:20251029T140000Z
END:VEVENT
BEGIN:VTIMEZONE
TZID:UTC
BEGIN:STANDARD
DTSTART:20251029T120000
TZNAME:UTC
TZOFFSETTO:+0000
TZOFFSETFROM:+0000
END:STANDARD
END:VTIMEZONE
END:VCALENDAR
