BEGIN:VCALENDAR
PRODID:-//eluceo/ical//2.0/EN
VERSION:2.0
CALSCALE:GREGORIAN
BEGIN:VEVENT
UID:event-502
DTSTAMP:20260422T122832Z
SUMMARY:M.F.L.S. Eerstejaarsweekend 2025
DESCRIPTION:Lieve eerstejaarsstudent\, Op vrijdag 19 september reizen wij 
 af voor het geweldige Eerstejaarsweekend. Het weekend is gevuld met fantas
 tische activiteiten die je niet wilt missen. Ook is het is dé kans om je 
 studiegenoten (nog) beter te leren kennen. Schrijf je dus snel in! De kost
 en voor het Eerstejaarsweekend bedragen €91\,65. Dit is inclusief alles 
 (eten\, drinken\, accomodatie en activiteiten!).  Wat praktische info: - 
 Alle eerstejaars zijn welkom op het weekend\, maar er is een zero-toleran
 ce beleid voor drugsgebruik. Ook wordt er streng handgehaafd op alcoholco
 nsumptie bij minderjarigen\, waarbij het Bestuur je kan wegsturen van het 
 weekend na het geven van een waarschuwing. - Het belooft een enorm gezelli
 g weekend te worden\, maar mochten mensen zich misdragen\, luister altijd
  naar de aanwijzingen van het Bestuur. Er wordt een sanctiebeleid nagelee
 fd op deze activiteit\, wat betekent dat het M.F.l.S.-bestuur je kan wegst
 uren bij wangedrag\, of in ernstige gevallen kan schorsen. Gedraag je dus\
 , dat maakt het weekend voor iedereen leuker! ♥ - Doorverkoop van kaartj
 es voor het Eerstejaarsweekend is onderling niet toegestaan. Mocht je niet
  meer kunnen komen\, meld je dan af door te mailen naar secretaris@mfls.nl
 . De Secretaris van het M.F.L.S.-bestuur zal dan proberen je kaartje door 
 te verkopen aan iemand op de wachtlijst. Het geld wat je voor je kaartje h
 ebt betaald kan alleen teruggestort worden als iemand van de wachtlijst je
  kaartje heeft overgekocht.  Wij hebben er al ontzettend veel zin in\, ju
 llie hopelijk ook! Liefs\, De IntroductieCommissie 2025 "RomantIC"
DTSTART:20250919T150000Z
DTEND:20250921T170000Z
LOCATION:Verrassing!
END:VEVENT
BEGIN:VTIMEZONE
TZID:UTC
BEGIN:STANDARD
DTSTART:20250919T150000
TZNAME:UTC
TZOFFSETTO:+0000
TZOFFSETFROM:+0000
END:STANDARD
END:VTIMEZONE
END:VCALENDAR
