BEGIN:VCALENDAR
PRODID:-//eluceo/ical//2.0/EN
VERSION:2.0
CALSCALE:GREGORIAN
BEGIN:VEVENT
UID:event-501
DTSTAMP:20260422T122941Z
SUMMARY:M.F.L.S. Introductiedagen 2025
DESCRIPTION:Lieve eerstejaars\, Op maandag 1 en dinsdag 2 september is he
 t eindelijk tijd voor de Introductiedagen. Tijdens deze dagen zal je kenni
 s maken met je studie\, je medestudenten\, het LUMC\, de studievereniging 
 M.F.L.S. en nog veel meer. De Introductiedagen zijn gevuld met ontzettend 
 leuke activiteiten en onmisbare informatie voor de start van je studie\, e
 n zijn daarom verplicht. Schrijf je dus snel in!  De kosten voor de Intro
 ductiedagen bedragen €5\,60\,-. Tijdens de Introductiedagen zal er lunch
  zijn op de maandag\, en lunch en avondeten op de dinsdag! Wij hebben er a
 l ontzettend veel zin in\, jullie hopelijk ook! Liefs\, De IntroductieComm
 issie 2025
DTSTART:20250901T060000Z
DTEND:20250902T190000Z
LOCATION:LUMC\, Leiden
END:VEVENT
BEGIN:VTIMEZONE
TZID:UTC
BEGIN:STANDARD
DTSTART:20250901T060000
TZNAME:UTC
TZOFFSETTO:+0000
TZOFFSETFROM:+0000
END:STANDARD
END:VTIMEZONE
END:VCALENDAR
