BEGIN:VCALENDAR
PRODID:-//eluceo/ical//2.0/EN
VERSION:2.0
CALSCALE:GREGORIAN
BEGIN:VEVENT
UID:event-500
DTSTAMP:20260422T123032Z
SUMMARY:M.F.L.S.-feest "RomantIC"
DESCRIPTION:Als LUMC student / M.F.L.S.'er kan je gratis naar het M.F.L.S.-
 feest. Voor introducées kan je via deze module een kaartje kopen. Enkele
  regels: - Delfste studenten zijn niet welkom\, behalve KT studenten\, die
  mogen wel komen! - Je moet tegelijk met je introducé naar binnen\, ander
 s is dit kaartje ongeldig - Neem beiden (dus jij en je externe) je ID en c
 ollegekaart / bewijs van inschrijving mee\, anders kom je niet binnen! -
  Introducées moeten 18 jaar of ouder zijn! - Jij als M.F.L.S.'er introduc
 eert de externe\, dus jij bent verantwoordelijk voor het gedrag van de per
 soon en dat deze aan de bovenstaande voorwaarden voldoet. P.S.: koop dus a
 ls aankomend eerstejaars geen kaartje voor jezelf! Je mag als LUMC student
  dus zelf gewoon gratis naar binnen bij tonen van je collegekaart :) Wij h
 ebben er megaveel zin in! Liefs\, BM en 112 :)
DTSTART:20250902T200000Z
DTEND:20250903T020000Z
LOCATION:HePatho
END:VEVENT
BEGIN:VTIMEZONE
TZID:UTC
BEGIN:STANDARD
DTSTART:20250902T200000
TZNAME:UTC
TZOFFSETTO:+0000
TZOFFSETFROM:+0000
END:STANDARD
END:VTIMEZONE
END:VCALENDAR
