BEGIN:VCALENDAR
PRODID:-//eluceo/ical//2.0/EN
VERSION:2.0
CALSCALE:GREGORIAN
BEGIN:VEVENT
UID:event-477
DTSTAMP:20260422T123219Z
SUMMARY:LCR zomerborrel
DESCRIPTION:Leuk dat je op 8 augustus ook bij de zomerborrel aanwezig wilt 
 zijn! Dit jaar vindt deze co-borrel plaats bij The Beach House by WOW (Str
 and Noord 55\, Den Haag). Het begint om 20:00. Vanaf 22:00 gaat de muziek 
 aan en dansen we tot 01:00! Een kaartje kost 7 euro. Daar krijg je\, naast
  een heerlijke zomerse avond op het strand\, 3 consumptiebonnen voor. Daar
 na zijn drankjes (en evt snacks) voor eigen rekening. De reguliere tickets
  zijn uitverkocht\, maar er zijn nu extra tickets vrijgekomen voor €4.2
 0 euro. Hierbij krijg je geen consumptiebon i.p.v. 3.  Belangrijk: Neem
  je LUMC pas mee om aan te tonen dat je LUMC student bent. Wij hebben er z
 in in\, tot vrijdag 8 augustus!
DTSTART:20250808T180000Z
DTEND:20250808T230000Z
END:VEVENT
BEGIN:VTIMEZONE
TZID:UTC
BEGIN:STANDARD
DTSTART:20250808T180000
TZNAME:UTC
TZOFFSETTO:+0000
TZOFFSETFROM:+0000
END:STANDARD
END:VTIMEZONE
END:VCALENDAR
