BEGIN:VCALENDAR
PRODID:-//eluceo/ical//2.0/EN
VERSION:2.0
CALSCALE:GREGORIAN
BEGIN:VEVENT
UID:event-476
DTSTAMP:20260422T122930Z
SUMMARY:FSV BBQ
DESCRIPTION:Beste medestudenten\, Nog een paar weken en de zomervakantie is
  in zicht! 🎉 Dat willen we als FSV graag samen met jullie vieren tijden
 s een gezellige lunchBBQ op vrijdag 4 juli. 🎓 Aansluitend op het tentam
 en van Centraal Zenuwstelsel\, het OZV-eindsymposium en na de coschappen &
 amp\; keuzeprojecten! 📍 Locatie: USC Leiden Sportcentrum 🕛 Inloop: 1
 2:00 uur 🕧 Start: 12:30 uur Er staat een heerlijke\, goed verzorgde lun
 chBBQ voor jullie klaar! De bijdrage voor deelname bedraagt €7\,00 . Ko
 m gezellig mee en sluit samen met je medestudenten het studiejaar 2024-202
 5 af! Tot dan! Groetjes\, de FSV
DTSTART:20250704T100000Z
DTEND:20250704T160000Z
END:VEVENT
BEGIN:VTIMEZONE
TZID:UTC
BEGIN:STANDARD
DTSTART:20250704T100000
TZNAME:UTC
TZOFFSETTO:+0000
TZOFFSETFROM:+0000
END:STANDARD
END:VTIMEZONE
END:VCALENDAR
