BEGIN:VCALENDAR
PRODID:-//eluceo/ical//2.0/EN
VERSION:2.0
CALSCALE:GREGORIAN
BEGIN:VEVENT
UID:event-474
DTSTAMP:20260422T123347Z
SUMMARY:FSV boottocht
DESCRIPTION:Lieve medestudenten\, Jullie vroegen erom en wij hebben geluist
 erd! De FSV heeft speciaal voor jullie een gezellige boottocht georganisee
 rd door de mooie Leidse grachten 🚤 Na een intensieve studiejaar is het 
 tijd om even op adem te komen en samen te ontspannen.  Een perfecte momen
 t om even bij te praten met je medestudenten terwijl je geniet van een moo
 i uitzicht tijdens de vaartocht. 📅 Wanneer: Vrijdag 13 juni 🕓 Vertre
 ktijd: 16:00 📍 Vertrekpunt: Boisotkade 1\, Leiden Voor slechts €2 zor
 gen wij voor de boot (organisatie: Rederij Babbels) en de snacks 🍪🍹 
 Kom erbij\, neem je studievrienden mee en we maken er samen een onvergetel
 ijke middag van. Wij hebben er zin in en we hopen jullie daar te zien! 
 🌞 Het aantal plekken is beperkt\, dus wees er snel bij en meld je aan v
 ia onderstaande aanmeldformulier
DTSTART:20250613T140000Z
DTEND:20250613T150000Z
END:VEVENT
BEGIN:VTIMEZONE
TZID:UTC
BEGIN:STANDARD
DTSTART:20250613T140000
TZNAME:UTC
TZOFFSETTO:+0000
TZOFFSETFROM:+0000
END:STANDARD
END:VTIMEZONE
END:VCALENDAR
