BEGIN:VCALENDAR
PRODID:-//eluceo/ical//2.0/EN
VERSION:2.0
CALSCALE:GREGORIAN
BEGIN:VEVENT
UID:event-452
DTSTAMP:20260422T122607Z
SUMMARY: M.F.L.S.xSACxSR "Wat Weet De Ander" symposium
DESCRIPTION:👩🏻‍🏫Wat weet de ander? Symposium👩🏻‍🏫 Op 2
 6 juni vindt in samenwerking met de Studentenraad en de SAC het 'Wat weet 
 de ander?' Symposium plaats. Dr. Maaike Griffioen zal ons meer vertellen o
 ver de T-cell Receptor (TCR) therapie die een aantal weken voor het eerst 
 in het LUMC gebruikt is bij Acute Myeloid Leukemia🔬Vanuit verschillende
  professies wordt er naar deze casus gekeken\, want een arts\, onderzoeker
  en apotheker hebben allemaal een andere betrokkenheid🩺🧫💊. Van te
 voren kan je gratis mee-eten en achteraf borrelen we lekker na\, dus schri
 jf je snel in! Meer informatie wordt binnenkort bekend🤩 ---- 👩🏻
 ‍🏫What does the other know? Symposium👩🏻‍🏫 On 26th of June\
 , the 'What does the other know?' Symposium will take place in colaboratio
 n with the Student Council and the SAC. Dr. Maaike Griffioen will tell us 
 more about the T Cell Receptor (TCR) therapy that was first used in the LU
 MC a couple weeks back\, to treat a patient with Acute Myeloid Leukemia
 🔬 From different perspectives the case will be discussed\, because a do
 ctor\, researcher and pharmacist are all differently connected🩺🧫💊
 . Beforehand\, you can join the free dinner and afterwards there are drink
 s\, so sign up quickly! More information will be announced soon
DTSTART:20250626T160000Z
DTEND:20250626T190000Z
END:VEVENT
BEGIN:VTIMEZONE
TZID:UTC
BEGIN:STANDARD
DTSTART:20250626T160000
TZNAME:UTC
TZOFFSETTO:+0000
TZOFFSETFROM:+0000
END:STANDARD
END:VTIMEZONE
END:VCALENDAR
