BEGIN:VCALENDAR
PRODID:-//eluceo/ical//2.0/EN
VERSION:2.0
CALSCALE:GREGORIAN
BEGIN:VEVENT
UID:event-451
DTSTAMP:20260422T123105Z
SUMMARY:M.F.L.S.-barbecue
DESCRIPTION:Lieve M.F.L.S.'er\, De inschrijvingen voor de eindejaars barbec
 ue van de M.F.L.S. zijn open! Als actief lid kan je gratis bij ons komen B
 BQ'en\, als lid betaal je hier maar €5 voor :) Eten en drinken is inclus
 ief\, en er wordt rekening gehouden met dieetvoorkeuren\, dus er iets voor
  iedereen wat wils. Zien we jou bij deze avond vol gezelligheid en lekker 
 eten? Hopelijk tot dan! Liefs\, 112 ♥
DTSTART:20250625T160000Z
DTEND:20250625T190000Z
END:VEVENT
BEGIN:VTIMEZONE
TZID:UTC
BEGIN:STANDARD
DTSTART:20250625T160000
TZNAME:UTC
TZOFFSETTO:+0000
TZOFFSETFROM:+0000
END:STANDARD
END:VTIMEZONE
END:VCALENDAR
