BEGIN:VCALENDAR
PRODID:-//eluceo/ical//2.0/EN
VERSION:2.0
CALSCALE:GREGORIAN
BEGIN:VEVENT
UID:event-449
DTSTAMP:20260422T122602Z
SUMMARY:Ouderdag 2025
DESCRIPTION:Uw zoon of dochter studeert alweer ruim een semester aan het LU
 MC. Ongetwijfeld heeft u al veel verhalen gehoord over het studentenleven\
 , de colleges\, en de M.F.L.S. Wij kunnen ons daarom goed voorstellen dat 
 u nieuwsgierig bent om dit zelf ook eens mee te maken. Daarom zouden wij u
  graag verwelkomen op de M.F.L.S. Ouderdag op zaterdag 21 juni. Tijdens de
 ze dag kunt u van 10:30 tot 18:00 kennismaken met het studeren aan het LUM
 C en de vele activiteiten die daarbij horen. De Ouderdag heeft elk jaar ee
 n thema\, en dit jaar is dit “Oog voor Detail”\, en zult u het een en 
 ander te weten komen over het oog. Er zullen gastsprekers aanwezig zijn di
 e u graag vertellen over hun expertise\, maar u kunt ook uw handen uit de 
 mouwen steken bij een van de praktijkgerichte sessies. Voor zowel ouders v
 an studenten Biomedische wetenschappen als Geneeskunde zal het programma e
 en impressie geven\, zodat u het beste beeld krijgt van de studie van uw z
 oon of dochter. De dag zal worden afgesloten met een pubquiz en gezellige 
 borrel in de studentenbar HePatho. De lunch wordt voor u verzorgd\, en ged
 urende de dag kunt u genieten van een heerlijk kopje thee of koffie. Het d
 efinitieve programma zal later bekend worden gemaakt en toegevoegd worden 
 aan deze module (en gemaild worden naar alle deelnemers). U bent van harte
  welkom om met of zonder uw zoon of dochter naar de Ouderdag te komen. Per
  student mogen er 4 ouders of verzorgers worden aangemeld. De student dien
 t zichzelf ook aan te melden als deelnemer. Inschrijven kan via deze modul
 e\, dus claim snel een kaartje!  Hierbij wordt een kleine vergoeding van 
 12 euro per deelnemer gevraagd om deze dag mogelijk te maken. Mocht u nog 
 verdere vragen hebben\, schroom dan niet om contact op te nemen via ouderd
 ag@mfls.nl. We kijken ernaar uit u te verwelkomen\, en hopen dat u de stud
 ie na deze dag met een frisse blik zult beleven!
DTSTART:20250621T060000Z
DTEND:20250621T180000Z
END:VEVENT
BEGIN:VTIMEZONE
TZID:UTC
BEGIN:STANDARD
DTSTART:20250621T060000
TZNAME:UTC
TZOFFSETTO:+0000
TZOFFSETFROM:+0000
END:STANDARD
END:VTIMEZONE
END:VCALENDAR
