BEGIN:VCALENDAR
PRODID:-//eluceo/ical//2.0/EN
VERSION:2.0
CALSCALE:GREGORIAN
BEGIN:VEVENT
UID:event-441
DTSTAMP:20260422T122832Z
SUMMARY:FestiviCie activiteit 3
DESCRIPTION:Op donderdag 12 juni organiseert de FestiviCie de derde en daar
 mee ook laatste (sipjes) activiteit!  Dit keer gaan we powerkiten en blok
 arten op het strand! Normaliter kost dit snel richting de €30\, maar bij
  deze activiteit kan je nu eenmalig voor €10 (!!!) meedoen! De zomer 
 breekt tegen die tijd al bijna aan\, dus het weer zal perfect aansluiten o
 p de locatie van de activiteit \;) De voorlopige verzameltijd is 17.00 in 
 HePatho\, maar het exacte programma wordt nog in een latere mail gedeeld.
   Hopelijk tot dan! Liefs\, de FestiviCie '24-'25 ♥
DTSTART:20250612T150000Z
DTEND:20250612T210000Z
END:VEVENT
BEGIN:VTIMEZONE
TZID:UTC
BEGIN:STANDARD
DTSTART:20250612T150000
TZNAME:UTC
TZOFFSETTO:+0000
TZOFFSETFROM:+0000
END:STANDARD
END:VTIMEZONE
END:VCALENDAR
