BEGIN:VCALENDAR
PRODID:-//eluceo/ical//2.0/EN
VERSION:2.0
CALSCALE:GREGORIAN
BEGIN:VEVENT
UID:event-440
DTSTAMP:20260422T121800Z
SUMMARY:Bioscience Dinner
DESCRIPTION:🧬 Bioscience Dinner 2025! 🧬 When: 2nd of June at 18:00 Wh
 ere: Canteen of building 2 (research buidling) It’s finally happening! O
 n the evening of the 2nd of June 2025\, the yearly Bioscience Dinner will 
 take place at the LUMC.  Don’t hesitate for too long as there are a lim
 ited number of seats. To attend this event\, we ask you to pay €8\, whic
 h will cover a deligthful\, buffet-style three-course meal. You might wond
 er…. what exactly is the Bioscience dinner? During this evening\, indust
 ry representatives and BMS alumni will offer valuable insights into life o
 utside the academic world. Industry representatives from Chipsoft and Else
 vier will attend this evening and you will also meet BMS alumni with diver
 se backgrounds (from an RIVM virologist to a biology high school teacher\,
  you name it!). You are given the excellent opportunity to directly networ
 k with these industry professionals and BMS alumni while enjoying a three-
 course meal (with drinks included). Perhaps\, you will be able to secure a
 n industry internship this evening\, or meet your future colleague\, who k
 nows… Either way\, it is going to be a fantastic evening and you certain
 ly don’t want to miss out on this!  Note: This evening will also count 
 as an alumni evening for the BMS master students (or a GL point if it will
  be your third alumni evening).
DTSTART:20250602T160000Z
DTEND:20250602T200000Z
END:VEVENT
BEGIN:VTIMEZONE
TZID:UTC
BEGIN:STANDARD
DTSTART:20250602T160000
TZNAME:UTC
TZOFFSETTO:+0000
TZOFFSETFROM:+0000
END:STANDARD
END:VTIMEZONE
END:VCALENDAR
