BEGIN:VCALENDAR
PRODID:-//eluceo/ical//2.0/EN
VERSION:2.0
CALSCALE:GREGORIAN
BEGIN:VEVENT
UID:event-436
DTSTAMP:20260422T123142Z
SUMMARY:VGT pubquiz
DESCRIPTION:Fris je VGT kennis op onder het genot van een drankje bij onze 
 VGT pubquiz in HePatho!
DTSTART:20250512T180000Z
DTEND:20250512T200000Z
END:VEVENT
BEGIN:VTIMEZONE
TZID:UTC
BEGIN:STANDARD
DTSTART:20250512T180000
TZNAME:UTC
TZOFFSETTO:+0000
TZOFFSETFROM:+0000
END:STANDARD
END:VTIMEZONE
END:VCALENDAR
